BEGIN:VCALENDAR
VERSION:2.0
PRODID:icalendar-ruby
CALSCALE:GREGORIAN
METHOD:PUBLISH
BEGIN:VEVENT
DTSTAMP:20260422T200531Z
UID:5-402711@fbcsimsboro.org
DTSTART:20260920T153000Z
DTEND:20260920T163000Z
CLASS:PUBLIC
CREATED:20260422T123231
DESCRIPTION:Sunday Worship
LAST-MODIFIED:20260422T123231
LOCATION:
SUMMARY:Sunday Worship
URL;VALUE=URI:https://www.fbcsimsboro.org/events/sunday-worship/2026-09-20
END:VEVENT
END:VCALENDAR
